Package: RTCGA.miRNASeq Version: 1.38.0 Command: /home/biocbuild/bbs-3.22-bioc/R/bin/R CMD INSTALL RTCGA.miRNASeq StartedAt: 2025-11-20 11:05:22 -0500 (Thu, 20 Nov 2025) EndedAt: 2025-11-20 11:07:14 -0500 (Thu, 20 Nov 2025) EllapsedTime: 112.4 seconds RetCode: 0 Status: OK