Package: RTCGA.miRNASeq Version: 1.38.0 Command: /home/biocbuild/bbs-3.22-bioc/R/bin/R CMD check --install=check:RTCGA.miRNASeq.install-out.txt --library=/home/biocbuild/bbs-3.22-bioc/R/site-library --timings RTCGA.miRNASeq_1.38.0.tar.gz StartedAt: 2025-11-20 13:12:51 -0500 (Thu, 20 Nov 2025) EndedAt: 2025-11-20 13:15:37 -0500 (Thu, 20 Nov 2025) EllapsedTime: 166.7 seconds RetCode: 0 Status: WARNINGS CheckDir: RTCGA.miRNASeq.Rcheck Warnings: 1