Package: RTCGA.clinical Version: 20151101.39.0 Command: /home/biocbuild/bbs-3.22-bioc/R/bin/R CMD check --install=check:RTCGA.clinical.install-out.txt --library=/home/biocbuild/bbs-3.22-bioc/R/site-library --timings RTCGA.clinical_20151101.39.0.tar.gz StartedAt: 2025-10-28 12:58:03 -0400 (Tue, 28 Oct 2025) EndedAt: 2025-10-28 12:59:44 -0400 (Tue, 28 Oct 2025) EllapsedTime: 101.0 seconds RetCode: 0 Status: WARNINGS CheckDir: RTCGA.clinical.Rcheck Warnings: 1