Package: RMassBankData Version: 1.48.0 Command: /home/biocbuild/bbs-3.22-bioc/R/bin/R CMD build --keep-empty-dirs --no-resave-data RMassBankData StartedAt: 2025-11-04 11:38:25 -0500 (Tue, 04 Nov 2025) EndedAt: 2025-11-04 11:38:38 -0500 (Tue, 04 Nov 2025) EllapsedTime: 13.0 seconds RetCode: 0 Status: OK PackageFile: RMassBankData_1.48.0.tar.gz PackageFileSize: 51.54 MiB