Package: RITANdata Version: 1.34.0 Command: /home/biocbuild/bbs-3.22-bioc/R/bin/R CMD build --keep-empty-dirs --no-resave-data RITANdata StartedAt: 2025-10-30 11:48:06 -0400 (Thu, 30 Oct 2025) EndedAt: 2025-10-30 11:48:49 -0400 (Thu, 30 Oct 2025) EllapsedTime: 43.0 seconds RetCode: 0 Status: OK PackageFile: RITANdata_1.34.0.tar.gz PackageFileSize: 7.415 MiB