Package: ProteinGymR Version: 1.4.0 Command: /home/biocbuild/bbs-3.22-bioc/R/bin/R CMD check --install=check:ProteinGymR.install-out.txt --library=/home/biocbuild/bbs-3.22-bioc/R/site-library --timings ProteinGymR_1.4.0.tar.gz StartedAt: 2025-11-20 13:04:43 -0500 (Thu, 20 Nov 2025) EndedAt: 2025-11-20 13:18:19 -0500 (Thu, 20 Nov 2025) EllapsedTime: 816.0 seconds RetCode: 0 Status: OK CheckDir: ProteinGymR.Rcheck Warnings: 0