Package: PhyloProfileData Version: 1.22.3 Command: /home/biocbuild/bbs-3.21-bioc/R/bin/R CMD build --keep-empty-dirs --no-resave-data PhyloProfileData StartedAt: 2025-07-24 11:33:01 -0400 (Thu, 24 Jul 2025) EndedAt: 2025-07-24 11:33:35 -0400 (Thu, 24 Jul 2025) EllapsedTime: 33.6 seconds RetCode: 0 Status: OK PackageFile: PhyloProfileData_1.22.3.tar.gz PackageFileSize: 228 KiB