Package: PepsNMRData Version: 1.28.0 Command: /home/biocbuild/bbs-3.22-bioc/R/bin/R CMD INSTALL PepsNMRData StartedAt: 2025-10-30 10:55:55 -0400 (Thu, 30 Oct 2025) EndedAt: 2025-10-30 10:56:08 -0400 (Thu, 30 Oct 2025) EllapsedTime: 13.6 seconds RetCode: 0 Status: OK