Package: PepsNMRData Version: 1.28.0 Command: /home/biocbuild/bbs-3.22-bioc/R/bin/R CMD build --keep-empty-dirs --no-resave-data PepsNMRData StartedAt: 2025-10-30 11:45:11 -0400 (Thu, 30 Oct 2025) EndedAt: 2025-10-30 11:45:26 -0400 (Thu, 30 Oct 2025) EllapsedTime: 14.7 seconds RetCode: 0 Status: OK PackageFile: PepsNMRData_1.28.0.tar.gz PackageFileSize: 31.89 MiB