Package: PWMEnrich.Dmelanogaster.background Version: 4.42.0 Command: /home/biocbuild/bbs-3.21-bioc/R/bin/R CMD check --install=check:PWMEnrich.Dmelanogaster.background.install-out.txt --library=/home/biocbuild/bbs-3.21-bioc/R/site-library --timings PWMEnrich.Dmelanogaster.background_4.42.0.tar.gz StartedAt: 2025-10-09 12:46:34 -0400 (Thu, 09 Oct 2025) EndedAt: 2025-10-09 12:47:10 -0400 (Thu, 09 Oct 2025) EllapsedTime: 35.9 seconds RetCode: 0 Status: OK CheckDir: PWMEnrich.Dmelanogaster.background.Rcheck Warnings: 0