Package: PREDAsampledata Version: 0.48.0 Command: /home/biocbuild/bbs-3.21-bioc/R/bin/R CMD check --install=check:PREDAsampledata.install-out.txt --library=/home/biocbuild/bbs-3.21-bioc/R/site-library --timings PREDAsampledata_0.48.0.tar.gz StartedAt: 2025-10-07 12:45:27 -0400 (Tue, 07 Oct 2025) EndedAt: 2025-10-07 12:47:18 -0400 (Tue, 07 Oct 2025) EllapsedTime: 110.2 seconds RetCode: 0 Status: OK CheckDir: PREDAsampledata.Rcheck Warnings: 0