Package: PCHiCdata Version: 1.38.0 Command: /home/biocbuild/bbs-3.22-bioc/R/bin/R CMD INSTALL PCHiCdata StartedAt: 2025-11-04 10:57:49 -0500 (Tue, 04 Nov 2025) EndedAt: 2025-11-04 10:58:31 -0500 (Tue, 04 Nov 2025) EllapsedTime: 42.0 seconds RetCode: 0 Status: OK