Package: OMICsPCAdata Version: 1.28.0 Command: /home/biocbuild/bbs-3.22-bioc/R/bin/R CMD check --install=check:OMICsPCAdata.install-out.txt --library=/home/biocbuild/bbs-3.22-bioc/R/site-library --timings OMICsPCAdata_1.28.0.tar.gz StartedAt: 2025-11-20 13:00:51 -0500 (Thu, 20 Nov 2025) EndedAt: 2025-11-20 13:03:00 -0500 (Thu, 20 Nov 2025) EllapsedTime: 129.5 seconds RetCode: 0 Status: WARNINGS CheckDir: OMICsPCAdata.Rcheck Warnings: 1