Package: NestLink Version: 1.26.0 Command: /home/biocbuild/bbs-3.22-bioc/R/bin/R CMD check --install=check:NestLink.install-out.txt --library=/home/biocbuild/bbs-3.22-bioc/R/site-library --timings NestLink_1.26.0.tar.gz StartedAt: 2025-11-04 12:41:06 -0500 (Tue, 04 Nov 2025) EndedAt: 2025-11-04 12:53:00 -0500 (Tue, 04 Nov 2025) EllapsedTime: 713.8 seconds RetCode: 0 Status: OK CheckDir: NestLink.Rcheck Warnings: 0