Package: MouseGastrulationData Version: 1.24.0 Command: /home/biocbuild/bbs-3.22-bioc/R/bin/R CMD INSTALL MouseGastrulationData StartedAt: 2025-11-04 11:03:39 -0500 (Tue, 04 Nov 2025) EndedAt: 2025-11-04 11:04:10 -0500 (Tue, 04 Nov 2025) EllapsedTime: 30.8 seconds RetCode: 0 Status: OK