Package: MouseGastrulationData Version: 1.22.0 Command: /home/biocbuild/bbs-3.21-bioc/R/bin/R CMD build --keep-empty-dirs --no-resave-data MouseGastrulationData StartedAt: 2025-07-24 11:29:21 -0400 (Thu, 24 Jul 2025) EndedAt: 2025-07-24 11:30:44 -0400 (Thu, 24 Jul 2025) EllapsedTime: 83.0 seconds RetCode: 0 Status: OK PackageFile: MouseGastrulationData_1.22.0.tar.gz PackageFileSize: 507.6 KiB