Package: MetaGxPancreas Version: 1.30.0 Maintainer: Benjamin Haibe-Kains MaintainerEmail: benjamin.haibe.kains at utoronto.ca git_url: https://git.bioconductor.org/packages/MetaGxPancreas git_branch: RELEASE_3_22 git_last_commit: 935c772 git_last_commit_date: 2025-10-29 10:00:14 -0400 (Wed, 29 Oct 2025)