Package: MUGAExampleData Version: 1.28.0 Command: /home/biocbuild/bbs-3.21-bioc/R/bin/R CMD INSTALL MUGAExampleData StartedAt: 2025-07-24 10:55:50 -0400 (Thu, 24 Jul 2025) EndedAt: 2025-07-24 10:55:54 -0400 (Thu, 24 Jul 2025) EllapsedTime: 3.4 seconds RetCode: 0 Status: OK