Package: MSMB Version: 1.28.0 Command: /home/biocbuild/bbs-3.22-bioc/R/bin/R CMD INSTALL MSMB StartedAt: 2025-10-30 10:57:00 -0400 (Thu, 30 Oct 2025) EndedAt: 2025-10-30 10:57:03 -0400 (Thu, 30 Oct 2025) EllapsedTime: 2.6 seconds RetCode: 0 Status: OK