Package: MSMB Version: 1.28.0 Command: /home/biocbuild/bbs-3.22-bioc/R/bin/R CMD build --keep-empty-dirs --no-resave-data MSMB StartedAt: 2025-10-30 11:40:48 -0400 (Thu, 30 Oct 2025) EndedAt: 2025-10-30 11:40:56 -0400 (Thu, 30 Oct 2025) EllapsedTime: 8.0 seconds RetCode: 0 Status: OK PackageFile: MSMB_1.28.0.tar.gz PackageFileSize: 5.049 MiB