Package: MOFAdata Version: 1.24.0 Command: /home/biocbuild/bbs-3.21-bioc/R/bin/R CMD INSTALL MOFAdata StartedAt: 2025-07-24 10:55:12 -0400 (Thu, 24 Jul 2025) EndedAt: 2025-07-24 10:55:23 -0400 (Thu, 24 Jul 2025) EllapsedTime: 11.2 seconds RetCode: 0 Status: OK