Package: LungCancerLines Version: 0.48.0 Command: /home/biocbuild/bbs-3.22-bioc/R/bin/R CMD INSTALL LungCancerLines StartedAt: 2025-11-20 11:01:27 -0500 (Thu, 20 Nov 2025) EndedAt: 2025-11-20 11:01:40 -0500 (Thu, 20 Nov 2025) EllapsedTime: 12.5 seconds RetCode: 0 Status: OK