Package: LungCancerACvsSCCGEO Version: 1.46.0 Command: /home/biocbuild/bbs-3.22-bioc/R/bin/R CMD build --keep-empty-dirs --no-resave-data LungCancerACvsSCCGEO StartedAt: 2025-10-30 11:36:13 -0400 (Thu, 30 Oct 2025) EndedAt: 2025-10-30 11:39:45 -0400 (Thu, 30 Oct 2025) EllapsedTime: 212.1 seconds RetCode: 0 Status: OK PackageFile: LungCancerACvsSCCGEO_1.46.0.tar.gz PackageFileSize: 138.6 MiB