Package: LiebermanAidenHiC2009 Version: 0.46.0 Command: /home/biocbuild/bbs-3.21-bioc/R/bin/R CMD INSTALL LiebermanAidenHiC2009 StartedAt: 2025-07-24 10:56:41 -0400 (Thu, 24 Jul 2025) EndedAt: 2025-07-24 10:56:46 -0400 (Thu, 24 Jul 2025) EllapsedTime: 5.0 seconds RetCode: 0 Status: OK