Package: JASPAR2016 Version: 1.38.0 Command: /home/biocbuild/bbs-3.22-bioc/R/bin/R CMD INSTALL JASPAR2016 StartedAt: 2025-10-30 10:56:23 -0400 (Thu, 30 Oct 2025) EndedAt: 2025-10-30 10:56:29 -0400 (Thu, 30 Oct 2025) EllapsedTime: 5.4 seconds RetCode: 0 Status: OK