Package: Hiiragi2013 Version: 1.46.0 Command: /home/biocbuild/bbs-3.22-bioc/R/bin/R CMD INSTALL Hiiragi2013 StartedAt: 2025-11-20 10:57:52 -0500 (Thu, 20 Nov 2025) EndedAt: 2025-11-20 10:58:11 -0500 (Thu, 20 Nov 2025) EllapsedTime: 19.2 seconds RetCode: 0 Status: OK