Package: Hiiragi2013 Version: 1.46.0 Command: /home/biocbuild/bbs-3.22-bioc/R/bin/R CMD check --install=check:Hiiragi2013.install-out.txt --library=/home/biocbuild/bbs-3.22-bioc/R/site-library --timings Hiiragi2013_1.46.0.tar.gz StartedAt: 2025-11-20 12:40:52 -0500 (Thu, 20 Nov 2025) EndedAt: 2025-11-20 12:49:24 -0500 (Thu, 20 Nov 2025) EllapsedTime: 511.9 seconds RetCode: 0 Status: WARNINGS CheckDir: Hiiragi2013.Rcheck Warnings: 1