Package: Hiiragi2013 Version: 1.46.0 Command: /home/biocbuild/bbs-3.22-bioc/R/bin/R CMD build --keep-empty-dirs --no-resave-data Hiiragi2013 StartedAt: 2025-11-20 11:27:04 -0500 (Thu, 20 Nov 2025) EndedAt: 2025-11-20 11:32:40 -0500 (Thu, 20 Nov 2025) EllapsedTime: 335.9 seconds RetCode: 0 Status: OK PackageFile: Hiiragi2013_1.46.0.tar.gz PackageFileSize: 139.1 MiB