Package: HiBED Version: 1.8.0 Command: /home/biocbuild/bbs-3.22-bioc/R/bin/R CMD build --keep-empty-dirs --no-resave-data HiBED StartedAt: 2025-11-04 11:24:01 -0500 (Tue, 04 Nov 2025) EndedAt: 2025-11-04 11:25:23 -0500 (Tue, 04 Nov 2025) EllapsedTime: 81.6 seconds RetCode: 0 Status: OK PackageFile: HiBED_1.8.0.tar.gz PackageFileSize: 40.93 KiB