Package: HiBED Version: 1.6.0 Command: /home/biocbuild/bbs-3.21-bioc/R/bin/R CMD INSTALL HiBED StartedAt: 2025-07-24 11:04:47 -0400 (Thu, 24 Jul 2025) EndedAt: 2025-07-24 11:05:29 -0400 (Thu, 24 Jul 2025) EllapsedTime: 41.9 seconds RetCode: 0 Status: OK