Package: HiBED Version: 1.6.0 Command: /home/biocbuild/bbs-3.21-bioc/R/bin/R CMD build --keep-empty-dirs --no-resave-data HiBED StartedAt: 2025-07-24 11:22:18 -0400 (Thu, 24 Jul 2025) EndedAt: 2025-07-24 11:23:28 -0400 (Thu, 24 Jul 2025) EllapsedTime: 69.9 seconds RetCode: 0 Status: OK PackageFile: HiBED_1.6.0.tar.gz PackageFileSize: 40.94 KiB