Package: HMP2Data Version: 1.23.0 Command: /home/biocbuild/bbs-3.22-bioc/R/bin/R CMD check --install=check:HMP2Data.install-out.txt --library=/home/biocbuild/bbs-3.22-bioc/R/site-library --timings HMP2Data_1.23.0.tar.gz StartedAt: 2025-10-28 12:31:31 -0400 (Tue, 28 Oct 2025) EndedAt: 2025-10-28 12:36:54 -0400 (Tue, 28 Oct 2025) EllapsedTime: 322.7 seconds RetCode: 0 Status: OK CheckDir: HMP2Data.Rcheck Warnings: 0