Package: HMP2Data Version: 1.24.0 Command: /home/biocbuild/bbs-3.22-bioc/R/bin/R CMD build --keep-empty-dirs --no-resave-data HMP2Data StartedAt: 2025-10-30 11:32:03 -0400 (Thu, 30 Oct 2025) EndedAt: 2025-10-30 11:33:30 -0400 (Thu, 30 Oct 2025) EllapsedTime: 86.9 seconds RetCode: 0 Status: OK PackageFile: HMP2Data_1.24.0.tar.gz PackageFileSize: 5.147 MiB