Package: FlowSorted.DLPFC.450k Version: 1.44.0 Command: /home/biocbuild/bbs-3.21-bioc/R/bin/R CMD INSTALL FlowSorted.DLPFC.450k StartedAt: 2025-07-24 11:02:41 -0400 (Thu, 24 Jul 2025) EndedAt: 2025-07-24 11:03:47 -0400 (Thu, 24 Jul 2025) EllapsedTime: 66.4 seconds RetCode: 0 Status: OK