Package: FlowSorted.DLPFC.450k Version: 1.44.0 Command: /home/biocbuild/bbs-3.21-bioc/R/bin/R CMD build --keep-empty-dirs --no-resave-data FlowSorted.DLPFC.450k StartedAt: 2025-07-24 11:16:45 -0400 (Thu, 24 Jul 2025) EndedAt: 2025-07-24 11:18:01 -0400 (Thu, 24 Jul 2025) EllapsedTime: 75.7 seconds RetCode: 0 Status: OK PackageFile: FlowSorted.DLPFC.450k_1.44.0.tar.gz PackageFileSize: 123.7 MiB