Package: Fletcher2013b Version: 1.44.0 Command: /home/biocbuild/bbs-3.21-bioc/R/bin/R CMD INSTALL Fletcher2013b StartedAt: 2025-07-24 10:59:50 -0400 (Thu, 24 Jul 2025) EndedAt: 2025-07-24 11:00:15 -0400 (Thu, 24 Jul 2025) EllapsedTime: 25.8 seconds RetCode: 0 Status: OK