Package: FieldEffectCrc Version: 1.20.0 Command: /home/biocbuild/bbs-3.22-bioc/R/bin/R CMD INSTALL FieldEffectCrc StartedAt: 2025-10-30 11:02:41 -0400 (Thu, 30 Oct 2025) EndedAt: 2025-10-30 11:03:23 -0400 (Thu, 30 Oct 2025) EllapsedTime: 41.3 seconds RetCode: 0 Status: OK