Package: FIs Version: 1.38.0 Command: /home/biocbuild/bbs-3.22-bioc/R/bin/R CMD INSTALL FIs StartedAt: 2025-10-30 10:55:58 -0400 (Thu, 30 Oct 2025) EndedAt: 2025-10-30 10:56:00 -0400 (Thu, 30 Oct 2025) EllapsedTime: 1.9 seconds RetCode: 0 Status: OK