Package: EpiMix.data Version: 1.12.0 Command: /home/biocbuild/bbs-3.22-bioc/R/bin/R CMD INSTALL EpiMix.data StartedAt: 2025-11-04 10:57:27 -0500 (Tue, 04 Nov 2025) EndedAt: 2025-11-04 10:57:42 -0500 (Tue, 04 Nov 2025) EllapsedTime: 15.1 seconds RetCode: 0 Status: OK