Package: EpiMix.data Version: 1.12.0 Command: /home/biocbuild/bbs-3.22-bioc/R/bin/R CMD build --keep-empty-dirs --no-resave-data EpiMix.data StartedAt: 2025-11-04 11:17:59 -0500 (Tue, 04 Nov 2025) EndedAt: 2025-11-04 11:18:18 -0500 (Tue, 04 Nov 2025) EllapsedTime: 19.3 seconds RetCode: 0 Status: OK PackageFile: EpiMix.data_1.12.0.tar.gz PackageFileSize: 5.021 MiB