Package: EatonEtAlChIPseq Version: 0.46.0 Command: /home/biocbuild/bbs-3.21-bioc/R/bin/R CMD INSTALL EatonEtAlChIPseq StartedAt: 2025-07-24 11:02:06 -0400 (Thu, 24 Jul 2025) EndedAt: 2025-07-24 11:02:28 -0400 (Thu, 24 Jul 2025) EllapsedTime: 21.4 seconds RetCode: 0 Status: OK