Package: DuoClustering2018 Version: 1.28.0 Command: /home/biocbuild/bbs-3.22-bioc/R/bin/R CMD INSTALL DuoClustering2018 StartedAt: 2025-10-30 10:57:13 -0400 (Thu, 30 Oct 2025) EndedAt: 2025-10-30 10:57:35 -0400 (Thu, 30 Oct 2025) EllapsedTime: 22.1 seconds RetCode: 0 Status: OK