Package: DrugVsDiseasedata Version: 1.46.0 Command: /home/biocbuild/bbs-3.22-bioc/R/bin/R CMD check --install=check:DrugVsDiseasedata.install-out.txt --library=/home/biocbuild/bbs-3.22-bioc/R/site-library --timings DrugVsDiseasedata_1.46.0.tar.gz StartedAt: 2025-11-04 12:14:05 -0500 (Tue, 04 Nov 2025) EndedAt: 2025-11-04 12:14:22 -0500 (Tue, 04 Nov 2025) EllapsedTime: 17.0 seconds RetCode: 0 Status: OK CheckDir: DrugVsDiseasedata.Rcheck Warnings: 0