Package: DeSousa2013 Version: 1.46.0 Command: /home/biocbuild/bbs-3.22-bioc/R/bin/R CMD build --keep-empty-dirs --no-resave-data DeSousa2013 StartedAt: 2025-11-04 11:16:24 -0500 (Tue, 04 Nov 2025) EndedAt: 2025-11-04 11:17:11 -0500 (Tue, 04 Nov 2025) EllapsedTime: 46.8 seconds RetCode: 0 Status: OK PackageFile: DeSousa2013_1.46.0.tar.gz PackageFileSize: 44.76 MiB