Package: DNAZooData Version: 1.8.0 Command: /home/biocbuild/bbs-3.21-bioc/R/bin/R CMD INSTALL DNAZooData StartedAt: 2025-10-07 11:00:47 -0400 (Tue, 07 Oct 2025) EndedAt: 2025-10-07 11:01:13 -0400 (Tue, 07 Oct 2025) EllapsedTime: 26.2 seconds RetCode: 0 Status: OK