Package: DNAZooData Version: 1.8.0 Command: /home/biocbuild/bbs-3.21-bioc/R/bin/R CMD check --install=check:DNAZooData.install-out.txt --library=/home/biocbuild/bbs-3.21-bioc/R/site-library --timings DNAZooData_1.8.0.tar.gz StartedAt: 2025-10-07 12:11:43 -0400 (Tue, 07 Oct 2025) EndedAt: 2025-10-07 12:14:58 -0400 (Tue, 07 Oct 2025) EllapsedTime: 195.1 seconds RetCode: 0 Status: OK CheckDir: DNAZooData.Rcheck Warnings: 0