Package: DMRcatedata Version: 2.28.0 Command: /home/biocbuild/bbs-3.22-bioc/R/bin/R CMD INSTALL DMRcatedata StartedAt: 2025-10-30 11:07:28 -0400 (Thu, 30 Oct 2025) EndedAt: 2025-10-30 11:08:15 -0400 (Thu, 30 Oct 2025) EllapsedTime: 47.7 seconds RetCode: 0 Status: OK