Package: DMRcatedata Version: 2.28.0 Command: /home/biocbuild/bbs-3.22-bioc/R/bin/R CMD build --keep-empty-dirs --no-resave-data DMRcatedata StartedAt: 2025-10-30 11:21:09 -0400 (Thu, 30 Oct 2025) EndedAt: 2025-10-30 11:22:16 -0400 (Thu, 30 Oct 2025) EllapsedTime: 67.0 seconds RetCode: 0 Status: OK PackageFile: DMRcatedata_2.28.0.tar.gz PackageFileSize: 120.3 KiB