Package: DAPARdata Version: 1.38.0 Command: /home/biocbuild/bbs-3.21-bioc/R/bin/R CMD INSTALL DAPARdata StartedAt: 2025-07-24 11:01:29 -0400 (Thu, 24 Jul 2025) EndedAt: 2025-07-24 11:02:05 -0400 (Thu, 24 Jul 2025) EllapsedTime: 35.2 seconds RetCode: 0 Status: OK