Package: CytoMethIC Version: 1.6.0 Command: /home/biocbuild/bbs-3.22-bioc/R/bin/R CMD INSTALL CytoMethIC StartedAt: 2025-10-30 11:08:14 -0400 (Thu, 30 Oct 2025) EndedAt: 2025-10-30 11:08:45 -0400 (Thu, 30 Oct 2025) EllapsedTime: 30.9 seconds RetCode: 0 Status: OK